Workbook
Name _Toc328556484: REAJUSTE!#REF!
Name matriz: [1]BDI!$Q$17:$V$21
Name matriz2: [1]BDI!$Q$23:$V$27
Name TESTE: [2]BDI!XEV:XEV*[2]BDI!XEW:XEW

Sheet ORÇAMENTO
B2: ORÇAMENTO
B3: =PAVIM.!$G$2 -> PREFEITURA MUNICIPAL DE MARACAJÁ | C3: BAIRRO: VILA BEATRIZ | I3: =PAVIM.!$K$2 -> MUNICIPIO: MARACAJÁ | K3: =PAVIM.!$M$2 -> ESTADO: SANTA CATARINA
B4: PAVIMENTAÇÃO COM PAVER NA ESCOLA 12 DE MAIO | J4: =PAVIM.!$M$3 -> DATA: 12/08/26 | K4: =PAVIM.!$M$3 -> DATA: 12/08/26
A6: Item | B6: Descrição | C6: Unidade | D6: Quantidade | E6: Valor unitário sem BDI | F6: Código de Reajuste | G6: Valores | K6: Fonte | L6: Referência de Custo
G7: Unitário sem BDI | H7: BDI | I7: Unitário com BDI | J7: Contratado
A9: 1 | B9: PAVIMENTAÇÃO | J9: =SUM(J10:J13) -> 65125.16
A10: 1.1 | B10: REGULARIZAÇÃO E COMPACTAÇÃO DE SUBLEITO DE SOLO PREDOMINANTEMENTE ARENOSO, PARA OBRAS DE CONSTRUÇÃO DE PAVIMENTOS. | C10: m² | D10: 580 | G10: 1.64 | H10: =BDI!$F$30 -> 0.2073 | I10: =TRUNC(G10*(1+H10),2) -> 1.97 | J10: =TRUNC(D10*I10,2) -> 1142.6 | K10: SINAPI 03/26 | L10: 100577
A11: 1.2 | B11: ESCAVAÇÃO VERTICAL PARA INFRAESTRUTURA, COM CARGA, DESCARGA E TRANSPORTE DE SOLO DE 1ª CATEGORIA, COM ESCAVADEIRA HIDRÁULICA (CAÇAMBA: 0,8 M³ / 111HP), FROTA DE 3 CAMINHÕES BASCULANTES DE 10 M³, DMT ATÉ 1 KM E VELOCIDADE MÉDIA14 KM/H. | C11: m³ | D11: 58 | G11: 12.85 | H11: =BDI!$F$30 -> 0.2073 | I11: =TRUNC(G11*(1+H11),2) -> 15.51 | J11: =TRUNC(D11*I11,2) -> 899.58 | K11: SINAPI 03/26 | L11: 101266
A12: 1.3 | B12: ASSENTAMENTO DE GUIA (MEIO-FIO) EM TRECHO RETO, CONFECCIONADA EM CONCRETO PRÉ-FABRICADO, DIMENSÕES 100X15X13X30 CM (COMPRIMENTO X BASE INFERIOR X BASE SUPERIOR X ALTURA), INCLUSO MATERIAL E MÃO DE OBRA. | C12: m | D12: 49 | G12: 49.55 | H12: =BDI!$F$30 -> 0.2073 | I12: =TRUNC(G12*(1+H12),2) -> 59.82 | J12: =TRUNC(D12*I12,2) -> 2931.18 | K12: SINAPI 03/26 | L12: 94273
A13: 1.4 | B13: EXECUÇÃO DE PAVIMENTO EM PISO INTERTRAVADO, COM BLOCO 16 FACES DE 22 X 11 CM, ESPESSURA 8 CM, INCLUSO MATERIAL E MÃO DE OBRA. | C13: m² | D13: 580 | G13: 85.91 | H13: =BDI!$F$30 -> 0.2073 | I13: =TRUNC(G13*(1+H13),2) -> 103.71 | J13: =TRUNC(D13*I13,2) -> 60151.8 | K13: SINAPI 03/26 | L13: 92404
B15: OBS.: SINAPI SEM DESONERAÇÃO - FLORIANÓPOLIS/SC
B16: ENCARGOS SOCIAIS SEM DESONERAÇÃO | I16: TOTAL: | J16: =J9 -> 65125.16
B17: DATA BASE DO ORÇAMENTO: 06/2026
J27: _____________________________________________
J28: Evânio Macalossi
J29: Diretor do Departamento de Obras

Sheet CRONOG
C2: CRONOGRAMA GLOBAL
C3: PREFEITURA MUNICIPAL DE MARACAJÁ | F3: BAIRRO: VILA BEATRIZ
C5: ESCOLA DE EDUCAÇÃO BÁSICA MUNICIPAL 12 DE MAIO | F5: ESTADO: SANTA CATARINA
B7: item | C7: Descrição | D7: Mês 01 | F7: Mês 02 | H7: ACUMULADO
D8: % | E8: R$ | F8: % | G8: R$ | H8: R$
B9: =ORÇAMENTO!A10 -> 1.1 | C9: =ORÇAMENTO!B10 -> REGULARIZAÇÃO E COMPACTAÇÃO DE SUBLEITO DE SOLO PREDOMINANTEMENTE ARENOSO, PARA OBRAS DE CONSTRUÇÃO DE PAVIMENTOS. | D9: 1 | E9: =ORÇAMENTO!J10 -> 1142.6 | H9: =E9+G9 -> 1142.6
B10: =ORÇAMENTO!A11 -> 1.2 | C10: =ORÇAMENTO!B11 -> ESCAVAÇÃO VERTICAL PARA INFRAESTRUTURA, COM CARGA, DESCARGA E TRANSPORTE DE SOLO DE 1ª CATEGORIA, COM ESCAVADEIRA HIDRÁULICA (CAÇAMBA: 0,8 M³ / 111HP), FROTA DE 3 CAMINHÕES BASCULANTES DE 10 M³, DMT ATÉ 1 KM E VELOCIDADE MÉDIA14 KM/H. | D10: 1 | E10: =ORÇAMENTO!J11 -> 899.58 | H10: =E10+G10 -> 899.58
B11: =ORÇAMENTO!A12 -> 1.3 | C11: =ORÇAMENTO!B12 -> ASSENTAMENTO DE GUIA (MEIO-FIO) EM TRECHO RETO, CONFECCIONADA EM CONCRETO PRÉ-FABRICADO, DIMENSÕES 100X15X13X30 CM (COMPRIMENTO X BASE INFERIOR X BASE SUPERIOR X ALTURA), INCLUSO MATERIAL E MÃO DE OBRA. | D11: 1 | E11: =ORÇAMENTO!J12 -> 2931.18 | H11: =E11+G11 -> 2931.18
B12: =ORÇAMENTO!A13 -> 1.4 | C12: =ORÇAMENTO!B13 -> EXECUÇÃO DE PAVIMENTO EM PISO INTERTRAVADO, COM BLOCO 16 FACES DE 22 X 11 CM, ESPESSURA 8 CM, INCLUSO MATERIAL E MÃO DE OBRA. | F12: 1 | G12: =ORÇAMENTO!J13 -> 60151.8 | H12: =E12+G12 -> 60151.8
B13: TOTAL | E13: =SUM(E9:E12) -> 4973.36 | G13: =SUM(G9:G12) -> 60151.8 | H13: =SUM(H9:H12) -> 65125.16
E20: _____________________________________________
E21: Evânio Macalossi
E22: Diretor do Departamento de Obras

Sheet QCI
B1: QCI - QUADRO DE COMPOSIÇÃO DO INVESTIMENTO
B2: =PAVIM.!$G$2 -> PREFEITURA MUNICIPAL DE MARACAJÁ | C2: =PAVIM.!$H$2 -> BAIRRO: ESPIGÃO GRANDE | F2: =PAVIM.!$K$2 -> MUNICIPIO: MARACAJÁ | H2: =PAVIM.!$M$2 -> ESTADO: SANTA CATARINA
B3: =PAVIM.!$G$3 -> RUA PARANÁ - TRECHO 01 | H3: =PAVIM.!$M$3 -> DATA: 12/08/26
A5: Nº do Item | B5: Descrição | C5: Unidade | D5: Quantidade | E5: Recurso Próprio | F5: Contratado | G5: Outras Fontes | H5: Total | I5: INC. %
A7: =ORÇAMENTO!A9 -> 1 | B7: =ORÇAMENTO!B9 -> PAVIMENTAÇÃO | F7: =ORÇAMENTO!J9 -> 65125.16 | H7: =E7+F7 -> 65125.16 | I7: =H7/$H$49 -> #REF!
A8: =ORÇAMENTO!#REF! -> #REF! | B8: =ORÇAMENTO!#REF! -> #REF! | F8: =ORÇAMENTO!#REF! -> #REF! | H8: =SUM(E8:F8) -> #REF! | I8: =H8/$H$49 -> #REF!
A9: =ORÇAMENTO!#REF! -> #REF! | B9: =ORÇAMENTO!#REF! -> #REF! | E9: 144356.8 | F9: =ORÇAMENTO!#REF!-E9 -> #REF! | H9: =E9+F9 -> #REF! | I9: =H9/$H$49 -> #REF!
A10: =ORÇAMENTO!#REF! -> #REF! | B10: =ORÇAMENTO!#REF! -> #REF! | F10: =ORÇAMENTO!#REF! -> #REF! | H10: =SUM(E10:F10) -> #REF! | I10: =H10/$H$49 -> #REF!
A11: =ORÇAMENTO!#REF! -> #REF! | B11: =ORÇAMENTO!#REF! -> #REF! | F11: =ORÇAMENTO!#REF! -> #REF! | H11: =SUM(E11:F11) -> #REF! | I11: =H11/$H$49 -> #REF!
A12: =ORÇAMENTO!#REF! -> #REF! | B12: =ORÇAMENTO!#REF! -> #REF! | F12: =ORÇAMENTO!#REF! -> #REF! | H12: =SUM(E12:F12) -> #REF! | I12: =H12/$H$49 -> #REF!
E49: =SUM(E7:E48) -> 144356.8 | F49: =SUM(F7:F48) -> #REF! | H49: =SUM(H7:H48) -> #REF! | I49: =SUM(I7:I48) -> #REF!

Sheet CRONOGRAMA
B1: CRONOGRAMA GLOBAL
B2: =PAVIM.!$G$2 -> PREFEITURA MUNICIPAL DE MARACAJÁ | N2: =PAVIM.!$H$2 -> BAIRRO: ESPIGÃO GRANDE | R2: =PAVIM.!$K$2 -> MUNICIPIO: MARACAJÁ | V2: =PAVIM.!$M$2 -> ESTADO: SANTA CATARINA
B3: =PAVIM.!$G$3 -> RUA PARANÁ - TRECHO 01 | V3: =PAVIM.!$M$3 -> DATA: 12/08/26
A5: Ítem | B5: Mês 01 | D5: Mês 02 | F5: Mês 03 | H5: Mês 04 | J5: Mês 05 | L5: Mês 06 | N5: Mês 07 | P5: Mês 08 | R5: Mês 09 | T5: Mês 10 | V5: Mês 11 | X5: Mês 12
B6: No mês | C6: Acum. | D6: No mês | E6: Acum. | F6: No mês | G6: Acum. | H6: No mês | I6: Acum. | J6: No mês | K6: Acum. | L6: No mês | M6: Acum. | N6: No mês | O6: Acum. | P6: No mês | Q6: Acum. | R6: No mês | S6: Acum. | T6: No mês | U6: Acum. | V6: No mês | W6: Acum. | X6: No mês | Y6: Acum.
A7: =IF(QCI!A7="","",QCI!A7) -> 1 | B7: 0.5 | C7: =B7 -> 0.5 | D7: 0.5 | E7: =B7+D7 -> 1 | F7: 0 | G7: =F7+D7+B7 -> 1 | H7: 0 | I7: =B7+D7+F7+H7 -> 1 | J7: 0 | K7: =B7+D7+F7+H7+J7 -> 1
A8: =IF(QCI!A8="","",QCI!A8) -> #REF! | B8: 0.2 | C8: =B8 -> 0.2 | D8: 0.4 | E8: =B8+D8 -> 0.6 | F8: 0.4 | G8: =F8+D8+B8 -> 1 | H8: 0 | I8: =B8+D8+F8+H8 -> 1 | J8: 0 | K8: =B8+D8+F8+H8+J8 -> 1
A9: =IF(QCI!A9="","",QCI!A9) -> #REF! | B9: 0.1 | C9: =B9 -> 0.1 | D9: 0.2 | E9: =B9+D9 -> 0.3 | F9: 0.3 | G9: =F9+D9+B9 -> 0.6 | H9: 0.3 | I9: =B9+D9+F9+H9 -> 0.9 | J9: 0.1 | K9: =B9+D9+F9+H9+J9 -> 1
A10: =IF(QCI!A10="","",QCI!A10) -> #REF! | B10: 0.1 | C10: =B10 -> 0.1 | D10: 0.2 | E10: =B10+D10 -> 0.3 | F10: 0.3 | G10: =F10+D10+B10 -> 0.6 | H10: 0.3 | I10: =B10+D10+F10+H10 -> 0.9 | J10: 0.1 | K10: =B10+D10+F10+H10+J10 -> 1
A11: =IF(QCI!A11="","",QCI!A11) -> #REF! | B11: 0 | C11: =B11 -> 0 | D11: 0 | E11: =B11+D11 -> 0 | F11: 0 | G11: =F11+D11+B11 -> 0 | H11: 0.25 | I11: =B11+D11+F11+H11 -> 0.25 | J11: 0.75 | K11: =B11+D11+F11+H11+J11 -> 1
A12: =IF(QCI!A12="","",QCI!A12) -> #REF! | B12: 0 | C12: =B12 -> 0 | D12: 0 | E12: =B12+D12 -> 0 | F12: 0 | G12: =F12+D12+B12 -> 0 | H12: 0.5 | I12: =B12+D12+F12+H12 -> 0.5 | J12: 0.5 | K12: =B12+D12+F12+H12+J12 -> 1
A15: TOTAL | B15: =(IF(ISERR(B7*QCI!$H$7=TRUE),"",B7*QCI!$H$7)+IF(ISERR(B8*QCI!$H$8=TRUE),"",B8*QCI!$H$8)+IF(ISERR(B9*QCI!$H$9=TRUE),"",B9*QCI!$H$9)+IF(ISERR(B10*QCI!$H$10=TRUE),"",B10*QCI!$H$10)+IF(ISERR(B11*QCI!$H$11=TRUE),"",B11*QCI!$H$11)+IF(ISERR(B12*QCI!$H$12=TRUE),"",B12*QCI!$H$12)+IF(ISERR(B13*QCI!$H$13=TRUE),"",B13*QCI!$H$13))/QCI!$H$49 -> #VALUE! | C15: =(IF(ISERR(C7*QCI!$H$7=TRUE),"",C7*QCI!$H$7)+IF(ISERR(C8*QCI!$H$8=TRUE),"",C8*QCI!$H$8)+IF(ISERR(C9*QCI!$H$9=TRUE),"",C9*QCI!$H$9)+IF(ISERR(C10*QCI!$H$10=TRUE),"",C10*QCI!$H$10)+IF(ISERR(C11*QCI!$H$11=TRUE),"",C11*QCI!$H$11)+IF(ISERR(C12*QCI!$H$12=TRUE),"",C12*QCI!$H$12)+IF(ISERR(C13*QCI!$H$13=TRUE),"",C13*QCI!$H$13))/QCI!$H$49 -> #VALUE! | D15: =(IF(ISERR(D7*QCI!$H$7=TRUE),"",D7*QCI!$H$7)+IF(ISERR(D8*QCI!$H$8=TRUE),"",D8*QCI!$H$8)+IF(ISERR(D9*QCI!$H$9=TRUE),"",D9*QCI!$H$9)+IF(ISERR(D10*QCI!$H$10=TRUE),"",D10*QCI!$H$10)+IF(ISERR(D11*QCI!$H$11=TRUE),"",D11*QCI!$H$11)+IF(ISERR(D12*QCI!$H$12=TRUE),"",D12*QCI!$H$12)+IF(ISERR(D13*QCI!$H$13=TRUE),"",D13*QCI!$H$13))/QCI!$H$49 -> #VALUE! | E15: =(IF(ISERR(E7*QCI!$H$7=TRUE),"",E7*QCI!$H$7)+IF(ISERR(E8*QCI!$H$8=TRUE),"",E8*QCI!$H$8)+IF(ISERR(E9*QCI!$H$9=TRUE),"",E9*QCI!$H$9)+IF(ISERR(E10*QCI!$H$10=TRUE),"",E10*QCI!$H$10)+IF(ISERR(E11*QCI!$H$11=TRUE),"",E11*QCI!$H$11)+IF(ISERR(E12*QCI!$H$12=TRUE),"",E12*QCI!$H$12)+IF(ISERR(E13*QCI!$H$13=TRUE),"",E13*QCI!$H$13))/QCI!$H$49 -> #VALUE! | F15: =(IF(ISERR(F7*QCI!$H$7=TRUE),"",F7*QCI!$H$7)+IF(ISERR(F8*QCI!$H$8=TRUE),"",F8*QCI!$H$8)+IF(ISERR(F9*QCI!$H$9=TRUE),"",F9*QCI!$H$9)+IF(ISERR(F10*QCI!$H$10=TRUE),"",F10*QCI!$H$10)+IF(ISERR(F11*QCI!$H$11=TRUE),"",F11*QCI!$H$11)+IF(ISERR(F12*QCI!$H$12=TRUE),"",F12*QCI!$H$12)+IF(ISERR(F13*QCI!$H$13=TRUE),"",F13*QCI!$H$13))/QCI!$H$49 -> #VALUE! | G15: =(IF(ISERR(G7*QCI!$H$7=TRUE),"",G7*QCI!$H$7)+IF(ISERR(G8*QCI!$H$8=TRUE),"",G8*QCI!$H$8)+IF(ISERR(G9*QCI!$H$9=TRUE),"",G9*QCI!$H$9)+IF(ISERR(G10*QCI!$H$10=TRUE),"",G10*QCI!$H$10)+IF(ISERR(G11*QCI!$H$11=TRUE),"",G11*QCI!$H$11)+IF(ISERR(G12*QCI!$H$12=TRUE),"",G12*QCI!$H$12)+IF(ISERR(G13*QCI!$H$13=TRUE),"",G13*QCI!$H$13))/QCI!$H$49 -> #VALUE! | H15: =(IF(ISERR(H7*QCI!$H$7=TRUE),"",H7*QCI!$H$7)+IF(ISERR(H8*QCI!$H$8=TRUE),"",H8*QCI!$H$8)+IF(ISERR(H9*QCI!$H$9=TRUE),"",H9*QCI!$H$9)+IF(ISERR(H10*QCI!$H$10=TRUE),"",H10*QCI!$H$10)+IF(ISERR(H11*QCI!$H$11=TRUE),"",H11*QCI!$H$11)+IF(ISERR(H12*QCI!$H$12=TRUE),"",H12*QCI!$H$12)+IF(ISERR(H13*QCI!$H$13=TRUE),"",H13*QCI!$H$13))/QCI!$H$49 -> #VALUE! | I15: =(IF(ISERR(I7*QCI!$H$7=TRUE),"",I7*QCI!$H$7)+IF(ISERR(I8*QCI!$H$8=TRUE),"",I8*QCI!$H$8)+IF(ISERR(I9*QCI!$H$9=TRUE),"",I9*QCI!$H$9)+IF(ISERR(I10*QCI!$H$10=TRUE),"",I10*QCI!$H$10)+IF(ISERR(I11*QCI!$H$11=TRUE),"",I11*QCI!$H$11)+IF(ISERR(I12*QCI!$H$12=TRUE),"",I12*QCI!$H$12)+IF(ISERR(I13*QCI!$H$13=TRUE),"",I13*QCI!$H$13))/QCI!$H$49 -> #VALUE! | ... K15: =(IF(ISERR(K7*QCI!$H$7=TRUE),"",K7*QCI!$H$7)+IF(ISERR(K8*QCI!$H$8=TRUE),"",K8*QCI!$H$8)+IF(ISERR(K9*QCI!$H$9=TRUE),"",K9*QCI!$H$9)+IF(ISERR(K10*QCI!$H$10=TRUE),"",K10*QCI!$H$10)+IF(ISERR(K11*QCI!$H$11=TRUE),"",K11*QCI!$H$11)+IF(ISERR(K12*QCI!$H$12=TRUE),"",K12*QCI!$H$12)+IF(ISERR(K13*QCI!$H$13=TRUE),"",K13*QCI!$H$13))/QCI!$H$49 -> #VALUE!
A16: Cronograma Financeiro | B16: =B7*QCI!$H$7+B8*QCI!$H$8+B9*QCI!$H$9+B10*QCI!$H$10+B11*QCI!$H$11+B12*QCI!$H$12++B13*QCI!$H$13 -> #REF! | D16: =D7*QCI!$H$7+D8*QCI!$H$8+D9*QCI!$H$9+D10*QCI!$H$10+D11*QCI!$H$11+D12*QCI!$H$12++D13*QCI!$H$13 -> #REF! | F16: =F7*QCI!$H$7+F8*QCI!$H$8+F9*QCI!$H$9+F10*QCI!$H$10+F11*QCI!$H$11+F12*QCI!$H$12++F13*QCI!$H$13 -> #REF! | H16: =H7*QCI!$H$7+H8*QCI!$H$8+H9*QCI!$H$9+H10*QCI!$H$10+H11*QCI!$H$11+H12*QCI!$H$12++H13*QCI!$H$13 -> #REF! | J16: =J7*QCI!$H$7+J8*QCI!$H$8+J9*QCI!$H$9+J10*QCI!$H$10+J11*QCI!$H$11+J12*QCI!$H$12++J13*QCI!$H$13 -> #REF!
A17: Acumulado (R$) | B17: =B16 -> #REF! | D17: =B17+D16 -> #REF! | F17: =D17+F16 -> #REF! | H17: =F17+H16 -> #REF! | J17: =H17+J16 -> #REF!
A18: Cronograma Fisico | B18: =B16/QCI!$H$49 -> #REF! | D18: =D16/QCI!$H$49 -> #REF! | F18: =F16/QCI!$H$49 -> #REF! | H18: =H16/QCI!$H$49 -> #REF! | J18: =J16/QCI!$H$49 -> #REF!
A19: Cron. Fis. (Acum.) | B19: =B18 -> #REF! | D19: =D18+B19 -> #REF! | F19: =F18+D19 -> #REF! | H19: =H18+F19 -> #REF! | J19: =J18+H19 -> #REF!

Sheet TERRAPL.
B1: PLANILHA DE CÁLCULO DE QUANTITATIVOS DE TERRAPLENAGEM
B2: =PAVIM.!G2 -> PREFEITURA MUNICIPAL DE MARACAJÁ | F2: =PAVIM.!H2 -> BAIRRO: ESPIGÃO GRANDE | H2: =PAVIM.!K2 -> MUNICIPIO: MARACAJÁ | J2: =PAVIM.!M2 -> ESTADO: SANTA CATARINA
B3: =PAVIM.!G3 -> RUA PARANÁ - TRECHO 01 | J3: =PAVIM.!M3 -> DATA: 12/08/26
A4: ESTACA | D4: SEMI DISTÂNCIA | E4: ÁREA DE CORTE | F4: SOMA DAS ÁREAS | G4: VOLUME DE CORTE | H4: ÁREA DE ATERRO | I4: SOMA DAS ÁREAS | J4: VOLUME DE ATERRO
A5: 0 | B5: + | C5: 0 | E5: 0.544 | G5: =TRUNC(F5*D5,3) -> 0 | H5: 0 | J5: =TRUNC(I5*D5,3) -> 0
A6: 0 | B6: + | C6: 0.71 | D6: =((A6*20+C6)-(A5*20+C5))/2 -> 0.355 | E6: 0.397 | F6: =E6+E5 -> 0.941 | G6: =TRUNC(F6*D6,3) -> 0.334 | H6: 0.01 | I6: =H6+H5 -> 0.01 | J6: =TRUNC(I6*D6,3) -> 0.003
A7: 0 | B7: + | C7: 10.952 | D7: =((A7*20+C7)-(A6*20+C6))/2 -> 5.121 | E7: 0.986 | F7: =E7+E6 -> 1.383 | G7: =TRUNC(F7*D7,3) -> 7.082 | H7: 0 | I7: =H7+H6 -> 0.01 | J7: =TRUNC(I7*D7,3) -> 0.051
A8: 1 | B8: + | C8: 0 | D8: =((A8*20+C8)-(A7*20+C7))/2 -> 4.524 | E8: 0.705 | F8: =E8+E7 -> 1.691 | G8: =TRUNC(F8*D8,3) -> 7.65 | H8: 0.021 | I8: =H8+H7 -> 0.021 | J8: =TRUNC(I8*D8,3) -> 0.095
A9: 1 | B9: + | C9: 6 | D9: =((A9*20+C9)-(A8*20+C8))/2 -> 3 | E9: 1.119 | F9: =E9+E8 -> 1.824 | G9: =TRUNC(F9*D9,3) -> 5.472 | H9: 0.027 | I9: =H9+H8 -> 0.048 | J9: =TRUNC(I9*D9,3) -> 0.144
A10: 2 | B10: + | C10: 0 | D10: =((A10*20+C10)-(A9*20+C9))/2 -> 7 | E10: 0.389 | F10: =E10+E9 -> 1.508 | G10: =TRUNC(F10*D10,3) -> 10.556 | H10: 0.013 | I10: =H10+H9 -> 0.04 | J10: =TRUNC(I10*D10,3) -> 0.28
A11: 3 | B11: + | C11: 0 | D11: =((A11*20+C11)-(A10*20+C10))/2 -> 10 | E11: 0.129 | F11: =E11+E10 -> 0.518 | G11: =TRUNC(F11*D11,3) -> 5.18 | H11: 0.026 | I11: =H11+H10 -> 0.039 | J11: =TRUNC(I11*D11,3) -> 0.39
A12: 3 | B12: + | C12: 15 | D12: =((A12*20+C12)-(A11*20+C11))/2 -> 7.5 | E12: 0.272 | F12: =E12+E11 -> 0.401 | G12: =TRUNC(F12*D12,3) -> 3.007 | H12: 0.008 | I12: =H12+H11 -> 0.034 | J12: =TRUNC(I12*D12,3) -> 0.255
A13: 4 | B13: + | C13: 0 | D13: =((A13*20+C13)-(A12*20+C12))/2 -> 2.5 | E13: 0.307 | F13: =E13+E12 -> 0.579 | G13: =TRUNC(F13*D13,3) -> 1.447 | H13: 0.021 | I13: =H13+H12 -> 0.029 | J13: =TRUNC(I13*D13,3) -> 0.072
A14: 5 | B14: + | C14: 0 | D14: =((A14*20+C14)-(A13*20+C13))/2 -> 10 | E14: 0.48 | F14: =E14+E13 -> 0.787 | G14: =TRUNC(F14*D14,3) -> 7.87 | H14: 0.029 | I14: =H14+H13 -> 0.05 | J14: =TRUNC(I14*D14,3) -> 0.5
A15: 5 | B15: + | C15: 15 | D15: =((A15*20+C15)-(A14*20+C14))/2 -> 7.5 | E15: 0.958 | F15: =E15+E14 -> 1.438 | G15: =TRUNC(F15*D15,3) -> 10.785 | H15: 0 | I15: =H15+H14 -> 0.029 | J15: =TRUNC(I15*D15,3) -> 0.217
A16: 6 | B16: + | C16: 0 | D16: =((A16*20+C16)-(A15*20+C15))/2 -> 2.5 | E16: 0.913 | F16: =E16+E15 -> 1.871 | G16: =TRUNC(F16*D16,3) -> 4.677 | H16: 0 | I16: =H16+H15 -> 0 | J16: =TRUNC(I16*D16,3) -> 0
A17: 7 | B17: + | C17: 0 | D17: =((A17*20+C17)-(A16*20+C16))/2 -> 10 | E17: 0.641 | F17: =E17+E16 -> 1.554 | G17: =TRUNC(F17*D17,3) -> 15.54 | H17: 0 | I17: =H17+H16 -> 0 | J17: =TRUNC(I17*D17,3) -> 0
... A51: 30 | B51: + | C51: 0 | D51: =((A51*20+C51)-(A50*20+C50))/2 -> 8.1205 | E51: 4.972 | F51: =E51+E50 -> 4.972 | G51: =TRUNC(F51*D51,3) -> 40.375 | H51: 0 | I51: =H51+H50 -> 1.34 | J51: =TRUNC(I51*D51,3) -> 10.881
G52: =SUM(G5:G51) -> 464.288 | J52: =SUM(J5:J51) -> 123.151
A54: VOLUME TOTAL DE ESCAVAÇÃO: | I54: =G52 -> 464.288
A55: VOLUME TOTAL DE ATERRO: | I55: =J52 -> 123.151
A56: VOLUME DE BOTA FORA: | I56: =I54-I55 -> 341.137

Sheet DIM. DREN.
C2: ANEXO 03 - ESTUDO DE BACIAS DE CONTRIBUIÇÃO PARA CÁLCULO
C3: E DIMENSIONAMENTO DE BUEIRO DE TALVEGUE
A5: RUA ARCENDINO FARIAS | E5: MUNICIPIO: MARACAJÁ | H5: PREFEITURA MUNICIPAL DE MARACAJÁ/SC
A6: BAIRRO/DISTRITO: ESPIGÃO GRANDE | E6: ESTADO: SC | H6: =#REF! -> #REF! | K6: FOLHA : 01 / 01
A8: ESTUDO DA BACIA DE CONTRIBUIÇÃO
A9: BACIA | B9: L. (m) | C9: Área (km²) | D9: Montante | E9: Jusante | F9: Decl. (m/km) | G9: TR (anos) | H9: tc | I9: i (mm/h) | J9: C (runoff) | K9: Qd (m³/s) (SOLICITADA)
A10: 1 | B10: 866 | C10: =BACIAS!G5 -> 0.264293 | D10: 16 | E10: 13.722 | F10: =(D10-E10)/(B10/1000) -> 2.630485 | G10: 25 | H10: =57*(((B10/1000)^2/(F10))^0.385) -> 35.160079 | I10: =(3445.7*G10^0.138)/(H10+26)^1.012 -> 83.615643 | J10: 0.25 | K10: =(J10*I10*C10)/3.6 -> 1.5346548
A12: DIMENSIONAMENTO
A13: ESTACA | D13: L. (m) | E13: Montante | G13: Jusante | I13: I (m/m) | K13: Ø Projetado
A14: 30 | B14: + | C14: 6 | D14: 13 | E14: =E10 -> 13.722 | G14: 13.45 | I14: =(E14-G14)/D14 -> 0.020923077 | K14: Duplo de 0,60m
K15: SUBSTITUIÇÃO
A38: ESTUDO DA BACIA DE CONTRIBUIÇÃO
A39: BACIA | B39: L. (m) | C39: Área (km²) | D39: Montante | E39: Jusante | F39: Decl. (m/km) | G39: TR (anos) | H39: tc | I39: i (mm/h) | J39: C (runoff) | K39: Qd (m³/s) (SOLICITADA)
A40: 2 | B40: 900 | C40: =BACIAS!G6 -> 0.173808 | D40: 15 | E40: 13.158 | F40: =(D40-E40)/(B40/1000) -> 2.0466667 | G40: 25 | H40: =57*(((B40/1000)^2/(F40))^0.385) -> 39.892242 | I40: =(3445.7*G40^0.138)/(H40+26)^1.012 -> 77.541266 | J40: 0.25 | K40: =(J40*I40*C40)/3.6 -> 0.93592308
A42: DIMENSIONAMENTO
A43: ESTACA | D43: L. (m) | E43: Montante | G43: Jusante | I43: I (m/m) | K43: Ø Projetado
A44: 50 | B44: + | C44: 0 | D44: 13 | E44: =E40 -> 13.158 | G44: 12.898 | I44: =(E44-G44)/D44 -> 0.02 | K44: Duplo de 0,60m
K45: SUBSTITUIÇÃO

Sheet BACIAS
D4: BACIA | E4: ÁREA DE CONTRIBUIÇÃO (m²) | F4: ÁREA DE CONTRIBUIÇÃO (HA) | G4: ÁREA DE CONTRIBUIÇÃO (KM²)
D5: 1 | E5: 264293 | F5: =E5/10000 -> 26.4293 | G5: =E5/(1000*1000) -> 0.264293
D6: 2 | E6: 173808 | F6: =E6/10000 -> 17.3808 | G6: =E6/(1000*1000) -> 0.173808
G11: =1232*7.5 -> 9240
G12: =G11-G13 -> 2700
G13: 6540
G14: =G12/1232 -> 2.1915584

Sheet DRENAGEM
G1: PLANILHA DE CÁLCULO PARA DIMENSIONAMENTO E QUANTITATIVOS DE DRENAGEM URBANA
G2: =PAVIM.!G2 -> PREFEITURA MUNICIPAL DE MARACAJÁ | N2: =PAVIM.!H2 -> BAIRRO: ESPIGÃO GRANDE | S2: =PAVIM.!K2 -> MUNICIPIO: MARACAJÁ | W2: ESTADO: SANTA CATARINA | AB2: =PAVIM.!M3 -> DATA: 12/08/26
G3: =PAVIM.!G3 -> RUA PARANÁ - TRECHO 01 | L3: T : | M3: 5 | N3: anos | O3: Coef. n : | P3: 0.013 | Q3: K: | R3: 696.47 | S3: b: | T3: 8.97 | U3: m: | V3: 0.195 | W3: n: | X3: 0.701
A4: Trecho | G4: L (m) | H4: Área (m²) | I4: TC (min) | J4: I (mm/h) | K4: C (run off) | L4: Vazão (m³/s) | O4: Cota Terreno | Q4: Declividade | S4: Diâmetro | U4: Velocidade (m/s) | V4: Recobrimento | X4: Cota da Galeria | Z4: Dimensões | AC4: Tempo de Percurso | AE4: Escavação (m³) | AF4: Reaterro (m³)
A5: Est. inicial | D5: Est. Final | L5: Projeto | M5: Admissível sarjeta | N5: Captada | O5: (montante) | P5: (jusante) | Q5: Natural (mm) | R5: Adotada (mm) | S5: Calculado (m) | T5: Comercial (mm) | V5: Mínimo (m) | W5: Adotado (m) | X5: (montante) | Y5: (jusante) | Z5: Profundidade (m) | AA5: Profundidade (m) | AB5: Largura (m) | AC5: Galeria (min) | AD5: Sarjeta (min)
A6: 26 | B6: + | C6: 12 | D6: 29 | E6: + | F6: 19 | G6: =(D6*20+F6)-(A6*20+C6) -> 67 | H6: =H7+G6*60 -> 4020 | I6: 10 | J6: =($R$3*$M$3^$V$3)/(I6+$T$3)^$X$3 -> 121.13688 | K6: 0.6 | L6: =K6*J6*(H6/(1000*1000)/3.6) -> 0.081161706 | M6: 0 | N6: =L6-M6 -> 0.081161706 | O6: 15.44 | P6: 15.95 | Q6: =(O6-P6)/G6 -> -0.0076119403 | R6: =-(X6-Y6)/G6 -> 0.0029850746 | S6: =1.5*(N6*$P$3/R6^0.5)^(3/8) -> 0.34140714 | T6: 600 | U6: =0.397*((T6/1000)^(2/3)*R6^0.5)/$P$3 -> 1.1869313 | V6: 0.4 | W6: =P6-T6/1000-Y6 -> 1.4 | X6: 13.75 | Y6: 13.95 | Z6: =O6-X6 -> 1.69 | AA6: =P6-Y6 -> 2 | AB6: =+IF(T6=300,0.85,IF(T6=400,1,IF(T6=500,1.15,IF(T6=600,1.35,IF(T6=800,1.65,IF(T6=1000,2,IF(T6=1200,2.3,IF(T6=1500,2.85)))))))) -> 1.35 | AC6: =G6/(60*U6) -> 0.94080143 | AD6: 0 | AE6: =(G6*(Z6+AA6)/2*AB6) -> 166.88025 | AF6: =AE6-G6*(PI()*(IF(T6=300,0.21,IF(T6=400,0.26,IF(T6=500,0.31,IF(T6=600,0.36,IF(T6=800,0.48,IF(T6=1000,0.58,IF(T6=1200,0.68,IF(T6=1500,0.83)))))))))^2) -> 139.60117
A13: TRAVESSIA DE PISTA
A14: 15 | B14: =B6 -> + | C14: 6.7 | G14: 14 | H14: RUA PARANÁ | P14: BOCA DE LOBO | S14: 0 | T14: 1000 | Z14: 1 | AA14: 1 | AB14: =+IF(T14=300,0.85,IF(T14=400,1,IF(T14=500,1.15,IF(T14=600,1.35,IF(T14=800,1.65,IF(T14=1000,2,IF(T14=1200,2.3,IF(T14=1500,2.85)))))))) -> 2 | AE14: =(G14*(Z14+AA14)/2*AB14) -> 28 | AF14: =AE14-G14*(PI()*(IF(T14=300,0.21,IF(T14=400,0.26,IF(T14=500,0.31,IF(T14=600,0.36,IF(T14=800,0.48,IF(T14=1000,0.58,IF(T14=1200,0.68,IF(T14=1500,0.83)))))))))^2) -> 13.204355
A16: 26 | B16: + | C16: 12 | G16: 14 | H16: RUA PARANÁ | P16: BOCA DE LOBO | S16: 0 | T16: 1000 | Z16: 1 | AA16: 1 | AB16: =+IF(T16=300,0.85,IF(T16=400,1,IF(T16=500,1.15,IF(T16=600,1.35,IF(T16=800,1.65,IF(T16=1000,2,IF(T16=1200,2.3,IF(T16=1500,2.85)))))))) -> 2 | AE16: =(G16*(Z16+AA16)/2*AB16) -> 28 | AF16: =AE16-G16*(PI()*(IF(T16=300,0.21,IF(T16=400,0.26,IF(T16=500,0.31,IF(T16=600,0.36,IF(T16=800,0.48,IF(T16=1000,0.58,IF(T16=1200,0.68,IF(T16=1500,0.83)))))))))^2) -> 13.204355
H26: SERVIÇO | J26: QTDADE | K26: UNID.
H27: BSTC D= | I27: 600 | J27: =SUMIF(T:T,I27,G:G) -> 67 | K27: m
H28: BSTC D= | I28: 1000 | J28: =SUMIF(T:T,I28,G:G) -> 28 | K28: m
H29: ESCAVAÇÃO | J29: =TRUNC(SUM(AE6:AE85),2) -> 222.88 | K29: m³
H30: REATERRO | J30: =TRUNC(SUM(AF6:AF85),2) -> 166 | K30: m³

Sheet PAVIM.
A1: =ORÇAMENTO!#REF! -> #REF! | G1: PLANILHA DE CÁLCULO DE QUANTITATIVOS DE PAVIMENTAÇÃO
G2: PREFEITURA MUNICIPAL DE MARACAJÁ | H2: BAIRRO: ESPIGÃO GRANDE | K2: MUNICIPIO: MARACAJÁ | M2: ESTADO: SANTA CATARINA
G3: RUA PARANÁ - TRECHO 01 | M3: =CONCATENATE("DATA:"," ",TEXT(TODAY(),"DD/MM/AA")) -> DATA: 12/08/26
A5: REGULARIZACAO E COMPACTAÇÃO DE SUBLEITO
A6: Est. inicial | D6: Est. Final | G6: Localização | H6: Lado | I6: Comprimento (m) | J6: Largura (m) | K6: Área (m²) | L6: Espessura (m) | M6: Quantidade (m²)
A7: 0 | B7: + | C7: 0 | D7: 1 | E7: + | F7: 10 | G7: ACESSO Á RUA PARANÁ | H7: LE/LD | I7: - | J7: - | K7: 197.02 | L7: - | M7: =K7 -> 197.02
A8: 1 | B8: + | C8: 0 | D8: 30 | E8: + | F8: 0 | G8: RUA PARANÁ | H8: LE/LD | I8: =(D8*20+F8)-(A8*20+C8) -> 580 | J8: 8.2 | K8: =TRUNC(I8*J8,2) -> 4756 | L8: - | M8: =K8 -> 4756
A9: 21 | B9: + | C9: 3 | D9: 21 | E9: + | F9: 10.7 | G9: LIMPA RODAS - RUA 168 | H9: LE | I9: - | J9: - | K9: 91.56 | L9: - | M9: =K9 -> 91.56
A10: 29 | B10: + | C10: 10 | D10: 29 | E10: + | F10: 19 | G10: LIMPA RODAS - RUA 213 | H10: LE | I10: - | J10: - | K10: 102.3 | L10: - | M10: =K10 -> 102.3
A11: TOTAL: | M11: =SUM(M7:M10) -> 5146.88
A13: SUB BASE DE MACADAME SECO
A14: Est. inicial | D14: Est. Final | G14: Localização | H14: Lado | I14: Comprimento (m) | J14: Largura (m) | K14: Área (m²) | L14: Espessura (m) | M14: Quantidade (m³)
A15: =A7 -> 0 | B15: =B7 -> + | C15: =C7 -> 0 | D15: =D7 -> 1 | E15: =E7 -> + | F15: =F7 -> 10 | G15: =G7 -> ACESSO Á RUA PARANÁ | H15: =H7 -> LE/LD | I15: - | J15: - | K15: =K7 -> 197.02 | L15: 0.2 | M15: =TRUNC(K15*L15,2) -> 39.4
A16: =A8 -> 1 | B16: =B8 -> + | C16: =C8 -> 0 | D16: =D8 -> 30 | E16: =E8 -> + | F16: =F8 -> 0 | G16: =G8 -> RUA PARANÁ | H16: =H8 -> LE/LD | I16: =(D16*20+F16)-(A16*20+C16) -> 580 | J16: =J8 -> 8.2 | K16: =TRUNC(I16*J16,2) -> 4756 | L16: 0.2 | M16: =TRUNC(K16*L16,2) -> 951.2
A17: =A9 -> 21 | B17: =B9 -> + | C17: =C9 -> 3 | D17: =D9 -> 21 | E17: =E9 -> + | F17: =F9 -> 10.7 | G17: =G9 -> LIMPA RODAS - RUA 168 | H17: =H9 -> LE | I17: - | J17: - | K17: =K9 -> 91.56 | L17: 0.2 | M17: =TRUNC(K17*L17,2) -> 18.31
A18: =A10 -> 29 | B18: =B10 -> + | C18: =C10 -> 10 | D18: =D10 -> 29 | E18: =E10 -> + | F18: =F10 -> 19 | G18: =G10 -> LIMPA RODAS - RUA 213 | H18: =H10 -> LE | I18: - | J18: - | K18: =K10 -> 102.3 | L18: 0.2 | M18: =TRUNC(K18*L18,2) -> 20.46
A19: TOTAL: | M19: =SUM(M15:M18) -> 1029.37
A21: BASE DE BRITA GRADUADA SIMPLES
A22: Est. inicial | D22: Est. Final | G22: Localização | H22: Lado | I22: Comprimento (m) | J22: Largura (m) | K22: Área (m²) | L22: Espessura (m) | M22: Quantidade (m³)
A23: =A15 -> 0 | B23: =B15 -> + | C23: =C15 -> 0 | D23: =D15 -> 1 | E23: =E15 -> + | F23: =F15 -> 10 | G23: =G15 -> ACESSO Á RUA PARANÁ | H23: =H15 -> LE/LD | I23: - | J23: - | K23: =K15 -> 197.02 | L23: 0.15 | M23: =TRUNC(K23*L23,2) -> 29.55
A24: =A16 -> 1 | B24: =B16 -> + | C24: =C16 -> 0 | D24: =D16 -> 30 | E24: =E16 -> + | F24: =F16 -> 0 | G24: =G16 -> RUA PARANÁ | H24: =H16 -> LE/LD | I24: =(D24*20+F24)-(A24*20+C24) -> 580 | J24: 7.85 | K24: =TRUNC(I24*J24,2) -> 4553 | L24: 0.15 | M24: =TRUNC(K24*L24,2) -> 682.95
A25: =A17 -> 21 | B25: =B17 -> + | C25: =C17 -> 3 | D25: =D17 -> 21 | E25: =E17 -> + | F25: =F17 -> 10.7 | G25: =G17 -> LIMPA RODAS - RUA 168 | H25: =H17 -> LE | I25: - | J25: - | K25: =K17 -> 91.56 | L25: 0.15 | M25: =TRUNC(K25*L25,2) -> 13.73
A26: =A18 -> 29 | B26: =B18 -> + | C26: =C18 -> 10 | D26: =D18 -> 29 | E26: =E18 -> + | F26: =F18 -> 19 | G26: =G18 -> LIMPA RODAS - RUA 213 | H26: =H18 -> LE | I26: - | J26: - | K26: =K18 -> 102.3 | L26: 0.15 | M26: =TRUNC(K26*L26,2) -> 15.34
A27: TOTAL: | M27: =SUM(M23:M26) -> 741.57
A29: IMPRIMAÇÃO EM LIGANTE COM EMULSÃO ASFÁLTICA
A30: Est. inicial | D30: Est. Final | G30: Localização | H30: Lado | I30: Comprimento (m) | J30: Largura (m) | K30: Área (m²) | L30: Espessura (m) | M30: Quantidade (m²)
A31: =A23 -> 0 | B31: =B23 -> + | C31: =C23 -> 0 | D31: =D23 -> 1 | E31: =E23 -> + | F31: =F23 -> 10 | G31: =G23 -> ACESSO Á RUA PARANÁ | H31: =H23 -> LE/LD | I31: - | J31: - | K31: =K23 -> 197.02 | L31: - | M31: =K31 -> 197.02
A32: =A24 -> 1 | B32: =B24 -> + | C32: =C24 -> 0 | D32: =D24 -> 30 | E32: =E24 -> + | F32: =F24 -> 0 | G32: =G24 -> RUA PARANÁ | H32: =H24 -> LE/LD | I32: =(D32*20+F32)-(A32*20+C32) -> 580 | J32: 7.7 | K32: =TRUNC(I32*J32,2) -> 4466 | L32: - | M32: =K32 -> 4466
A33: 20 | B33: + | C33: 6.3 | D33: 20 | E33: + | F33: 10 | G33: LOMBADA | H33: LE/LD | I33: =(D33*20+F33)-(A33*20+C33) -> 3.7 | J33: 7.7 | K33: =TRUNC(I33*J33,2) -> 28.48 | L33: - | M33: =K33 -> 28.48
A34: =A25 -> 21 | B34: =B25 -> + | C34: =C25 -> 3 | D34: =D25 -> 21 | E34: =E25 -> + | F34: =F25 -> 10.7 | G34: =G25 -> LIMPA RODAS - RUA 168 | H34: =H25 -> LE | I34: - | J34: - | K34: =K25 -> 91.56 | L34: - | M34: =K34 -> 91.56
A35: =A26 -> 29 | B35: =B26 -> + | C35: =C26 -> 10 | D35: =D26 -> 29 | E35: =E26 -> + | F35: =F26 -> 19 | G35: =G26 -> LIMPA RODAS - RUA 213 | H35: =H26 -> LE | I35: - | J35: - | K35: =K26 -> 102.3 | L35: - | M35: =K35 -> 102.3
A36: TOTAL (m²): | M36: =SUM(M31:M35) -> 4885.36
A37: AQUISIÇÃO PARA A IMPRIMAÇÃO COM EMULSÃO ASFÁLTICA - 0,0013T/m²: | M37: =TRUNC(M36*0.0013,2) -> 6.35
A38: TRANSPORTE DO MATERIAL BETUMINOSO PARA A IMPRIMAÇÃO COM EMULSÃO ASFÁLTICA - 0,0013T/m²: | M38: =M37 -> 6.35
A39: Cálculo para o valor do transp. adotou-se a fórmula conforme Portaria do DNIT n. 1.977, de 25 de outubro de 2017, publicada no Diário Oficial da União (26,939 + 0,253 x D) = [(26,939*(589,906/270,237))+(0,253*589,906/270,237)*488] x 1,17= | M39: =TRUNC(((26.939*(589.906/270.237))+(0.253*589.906/270.237)*488)*1.17,2) -> 384.13
A40: OBS.: D.M.T da Refinaria/PR até Usina Asfáltica = 488,00 km. ICMS = 17%
A42: PINTURA DE LIGAÇÃO
A43: Est. inicial | D43: Est. Final | G43: Localização | H43: Lado | I43: Comprimento (m) | J43: Largura (m) | K43: Área (m²) | L43: Espessura (m) | M43: Quantidade (m²)
A44: =A31 -> 0 | B44: =B31 -> + | C44: =C31 -> 0 | D44: =D31 -> 1 | E44: =E31 -> + | F44: =F31 -> 10 | G44: =G31 -> ACESSO Á RUA PARANÁ | H44: =H31 -> LE/LD | ... K44: =K31 -> 197.02 | L44: - | M44: =K44 -> 197.02
A45: =A32 -> 1 | B45: =B32 -> + | C45: =C32 -> 0 | D45: =D32 -> 30 | E45: =E32 -> + | F45: =F32 -> 0 | G45: =G32 -> RUA PARANÁ | H45: =H32 -> LE/LD | ... J45: =J32 -> 7.7 | K45: =TRUNC(I45*J45,2) -> 4466 | L45: - | M45: =K45 -> 4466
...

Sheet OBRAS COMPLEMENTARES
D1: PLANILHA DE CÁLCULO DE QUANTITATIVOS DE CALÇADA
D2: =PAVIM.!G2 -> PREFEITURA MUNICIPAL DE MARACAJÁ | I2: =PAVIM.!H2 -> BAIRRO: ESPIGÃO GRANDE | K2: =PAVIM.!K2 -> MUNICIPIO: MARACAJÁ | M2: =PAVIM.!M2 -> ESTADO: SANTA CATARINA
D3: =PAVIM.!G3 -> RUA PARANÁ - TRECHO 01 | M3: =PAVIM.!M3 -> DATA: 12/08/26
A4: ASSENTAMENTO DE GUIA (MEIO FIO) EM TRECHO RETO, CONFECCIONADA EM CONCRETO PRÉ-FABRICADO, DIMENSÕES 100X15X13X30 CM (COMPRIMENTO X BASE INFERIOR X BASE SUPERIOR X ALTURA), PARA VIAS URBANAS (USO VIÁRIO) - TIPO 01
A5: Est. inicial | D5: Est. Final | G5: Rua | H5: Lado | I5: Comprimento (m) | J5: Largura (m) | K5: Área (m²) | L5: Altura (m) | M5: Quantidade (m)
A6: =PAVIM.!A7 -> 0 | B6: =PAVIM.!B7 -> + | C6: =PAVIM.!C7 -> 0 | D6: =PAVIM.!D7 -> 1 | E6: =PAVIM.!E7 -> + | F6: =PAVIM.!F7 -> 10 | G6: =PAVIM.!G7 -> ACESSO Á RUA PARANÁ | H6: =PAVIM.!H7 -> LE/LD | I6: 30 | J6: - | K6: - | L6: - | M6: =TRUNC(I6,2) -> 30
A7: TOTAL: | M7: =SUM(M6) -> 30
A9: ENLEIVAMENTO
A10: Est. inicial | D10: Est. Final | G10: Rua | H10: Lado | I10: Comprimento (m) | J10: Largura (m) | K10: Área (m²) | L10: Altura (m) | M10: Quantidade (m²)
A11: =A6 -> 0 | B11: =B6 -> + | C11: =C6 -> 0 | D11: =D6 -> 1 | E11: =E6 -> + | F11: =F6 -> 10 | G11: =G6 -> ACESSO Á RUA PARANÁ | H11: LE/LD | I11: - | J11: - | K11: 40 | L11: - | M11: =K11 -> 40
A12: TOTAL: | M12: =SUM(M11:M11) -> 40

Sheet SINALIZAÇÃO
D1: PLANILHA DE CÁLCULO DE QUANTITATIVOS DE SINALIZAÇÃO
D2: =PAVIM.!G2 -> PREFEITURA MUNICIPAL DE MARACAJÁ | I2: =PAVIM.!H2 -> BAIRRO: ESPIGÃO GRANDE | L2: =PAVIM.!K2 -> MUNICIPIO: MARACAJÁ | M2: =PAVIM.!M2 -> ESTADO: SANTA CATARINA
D3: =PAVIM.!G3 -> RUA PARANÁ - TRECHO 01 | M3: =PAVIM.!M3 -> DATA: 12/08/26
A5: SINALIZAÇÃO HORIZONTAL - PINTURA DE FAIXA
A6: Est. Inicial | D6: Est. Final | G6: Rua | H6: Qtdd (un.) | I6: Comprimento (m) | J6: Largura (m) | K6: Faixas (un.) | L6: Tipo | M6: Total (m)
A7: =PAVIM.!A7 -> 0 | B7: =PAVIM.!B7 -> + | C7: =PAVIM.!C7 -> 0 | D7: =PAVIM.!D7 -> 1 | E7: =PAVIM.!E7 -> + | F7: =PAVIM.!F7 -> 10 | G7: =PAVIM.!G7 -> ACESSO Á RUA PARANÁ | H7: 1 | I7: =(D7*20+F7)-(A7*20+C7) -> 30 | J7: 0.1 | K7: 3 | L7: EIXO e BORDO LE/LD | M7: =TRUNC(I7*K7,2) -> 90
A8: =PAVIM.!A8 -> 1 | B8: =PAVIM.!B8 -> + | C8: =PAVIM.!C8 -> 0 | D8: =PAVIM.!D8 -> 30 | E8: =PAVIM.!E8 -> + | F8: =PAVIM.!F8 -> 0 | G8: =PAVIM.!G8 -> RUA PARANÁ | H8: 1 | I8: =(D8*20+F8)-(A8*20+C8) -> 580 | J8: 0.1 | K8: 3 | L8: EIXO e BORDO LE/LD | M8: =TRUNC(I8*K8,2) -> 1740
M9: =SUM(M7:M8) -> 1830
A11: SINALIZAÇÃO HORIZONTAL - FAIXA ZEBRADA
A12: Est. Inicial | D12: Est. Final | G12: Rua | H12: Qtdd (un.) | I12: Comprimento (m) | J12: Largura (m) | K12: Faixas (un.) | L12: Tipo | M12: Total (m²)
A13: =PAVIM.!A59 -> 20 | B13: =PAVIM.!B59 -> + | C13: =PAVIM.!C59 -> 6.3 | D13: =PAVIM.!D59 -> 20 | E13: =PAVIM.!E59 -> + | F13: =PAVIM.!F59 -> 10 | G13: =PAVIM.!G59 -> LOMBADA | H13: 1 | I13: =PAVIM.!I59 -> 3.7 | J13: 0.3 | K13: 2 | L13: FAIXA DE LOMBADA | M13: =TRUNC(H13*I13*J13*K13,2) -> 2.21
A14: TOTAL: | M14: =SUM(M13:M13) -> 2.21
A16: SINALIZAÇÃO HORIZONTAL - TACHA REFLETIVA BIDIRECIONAL
A17: Est. Inicial | D17: Est. Final | G17: Rua | H17: Faixas (un.) | I17: Comprimento (m) | J17: Largura (m) | K17: á cada | L17: Tipo | M17: Quantidade (un.)
A18: =A7 -> 0 | B18: =B7 -> + | C18: =C7 -> 0 | D18: =D7 -> 1 | E18: =E7 -> + | F18: =F7 -> 10 | G18: =G7 -> ACESSO Á RUA PARANÁ | H18: 1 | I18: =I7 -> 30 | J18: - | K18: 6 | L18: EIXO e BORDO LE/LD | M18: =ROUNDUP(I18*H18/K18,0) -> 5
A19: =A8 -> 1 | B19: =B8 -> + | C19: =C8 -> 0 | D19: =D8 -> 30 | E19: =E8 -> + | F19: =F8 -> 0 | G19: =G8 -> RUA PARANÁ | H19: 1 | I19: =I8 -> 580 | J19: - | K19: 6 | L19: EIXO e BORDO LE/LD | M19: =ROUNDUP(I19*H19/K19,0) -> 97
A20: TOTAL: | M20: =SUM(M18:M19) -> 102
A22: SINALIZAÇÃO VERTICAL - PLACA DE REGULAMENTAÇÃO
A23: Est. Inicial | D23: Est. Final | G23: Rua | H23: Qtdd (un.) | I23: Comprimento (m) | J23: Largura (m) | K23: Lado | L23: Tipo | M23: Quantidade (un.)
A24: 0 | B24: + | C24: =C19 -> 0 | D24: 0 | E24: + | F24: 0 | G24: =G19 -> RUA PARANÁ | H24: 1 | I24: 0.6 | J24: 0.6 | K24: LE | L24: PARE | M24: =H24 -> 1
A25: 21 | B25: + | C25: 0 | D25: 21 | E25: + | F25: 0 | G25: =G24 -> RUA PARANÁ | H25: 1 | I25: 0.6 | J25: 0.6 | K25: LE | L25: PARE | M25: =H25 -> 1
A26: 29 | B26: + | C26: 10 | D26: 29 | E26: + | F26: 10 | G26: =G25 -> RUA PARANÁ | H26: 1 | I26: 0.6 | J26: 0.6 | K26: LE | L26: PARE | M26: =H26 -> 1
A27: TOTAL: | M27: =SUM(M24:M26) -> 3
A29: SINALIZAÇÃO VERTICAL - PLACA DE ADVERTÊNCIA
A30: Est. Inicial | D30: Est. Final | G30: Rua | H30: Quantidade | I30: Comprimento (m) | J30: Largura (m) | K30: Lado | L30: Tipo | M30: Quantidade (un.)
A31: 15 | B31: + | C31: 10 | D31: 15 | E31: + | F31: 10 | G31: =G24 -> RUA PARANÁ | H31: 1 | I31: 0.6 | J31: 0.6 | K31: LD | L31: LOMBADA Á 100m | M31: =H31 -> 1
A32: 18 | B32: + | C32: 0 | D32: 18 | E32: + | F32: 0 | G32: =G31 -> RUA PARANÁ | H32: 1 | I32: 0.6 | J32: 0.6 | K32: LD | L32: LOMBADA Á 50m | M32: =H32 -> 1
A33: 20 | B33: + | C33: 10 | D33: 20 | E33: + | F33: 10 | G33: =G32 -> RUA PARANÁ | H33: 2 | I33: 0.6 | J33: 0.6 | K33: LE/LD | L33: LOMBADA | M33: =H33 -> 2
A34: 23 | B34: + | C34: 0 | D34: 23 | E34: + | F34: 0 | G34: =G33 -> RUA PARANÁ | H34: 1 | I34: 0.6 | J34: 0.6 | K34: LE | L34: LOMBADA Á 50m | M34: =H34 -> 1
A35: 25 | B35: + | C35: 10 | D35: 25 | E35: + | F35: 10 | G35: =G34 -> RUA PARANÁ | H35: 1 | I35: 0.6 | J35: 0.6 | K35: LE | L35: LOMBADA Á 100m | M35: =H35 -> 1
A36: TOTAL: | M36: =SUM(M31:M35) -> 6
A38: SINALIZAÇÃO VERTICAL - PLACA DE IDENTIFICAÇÃO DE RUA
A39: Est. Inicial | D39: Est. Final | G39: Rua | H39: Quantidade | I39: Comprimento (m) | J39: Altura (m) | K39: Lado | L39: Tipo | M39: Quantidade (un.)
A40: 0 | B40: + | C40: 0 | D40: 0 | E40: + | F40: 0 | G40: =G31 -> RUA PARANÁ | H40: 1 | I40: 0.45 | J40: 0.25 | K40: LD | L40: PLACA DE IDENTIFICAÇÃO DE RUA | M40: =H40 -> 1
A41: 21 | B41: + | C41: 10 | D41: 21 | E41: + | F41: 10 | G41: =G40 -> RUA PARANÁ | H41: 1 | I41: 0.45 | J41: 0.25 | K41: LE | L41: PLACA DE IDENTIFICAÇÃO DE RUA | M41: =H41 -> 1
A42: TOTAL: | M42: =SUM(M40:M41) -> 2
A44: SINALIZAÇÃO VERTICAL
A45: Est. Inicial | D45: Est. Final | G45: Rua | H45: Qtdd (un.) | I45: Comprimento (m) | J45: Largura (m) | K45: Lado | L45: Tipo | M45: Quantidade (un.)
A46: 0 | B46: + | C46: 0 | D46: 30 | E46: + | F46: 0 | G46: =G25 -> RUA PARANÁ | H46: 1 | I46: 2 | J46: 1 | K46: LE | L46: PLACA DE OBRA | M46: 1
A47: TOTAL: | M47: =SUM(M46:M46) -> 1

Sheet BDI
D1: Agente Promotor | F1: Número do Contrato
D2: PREFEITURA MUNICIPAL DE MARACAJÁ
D3: Empreendimento
D4: PAVIMENTAÇÃO EM PAVER DA ESCOLA DE EDUCAÇÃO BÁSICA 12 DE MAIO
D5: Localização
D6: RUA ANTÔNIO MACHADO | E6: BAIRRO: VILA BEATRIZ | H6: =PAVIM.!M3 -> DATA: 12/08/26
D8: =PAVIM.!K2 -> MUNICIPIO: MARACAJÁ | E8: =PAVIM.!M2 -> ESTADO: SANTA CATARINA
A10: Composição do BDI para obras com mão-de-obra sem desoneração (conforme Lei 13.161 de 2015)
D12: TIPO DE OBRA
D13: Construção de Rodovias
C15: COMPOSIÇÃO - BDI para Construção de Rodovias e Ferrovias
C16: ITEM | D16: DESCRIÇÃO ANALÍTICA | E16: SIGLAS | F16: PERCENTUAL | G16: SITUAÇÃO | H16: 1° QUARTIL (MÍNIMO) | I16: 3° QUARTIL (MÁXIMA)
C17: 1 | D17: ADMINISTRAÇÃO CENTRAL | E17: AC | F17: 0.038 | G17: OK | H17: 0.038 | I17: 0.0467
C18: 2 | D18: SEGURO E GARANTIA | E18: S + G | F18: 0.0032 | G18: OK | H18: 0.0032 | I18: 0.0074
C19: 3 | D19: RISCO | E19: R | F19: 0.005 | G19: OK | H19: 0.005 | I19: 0.0097
C20: 4 | D20: DESPESAS FINANCEIRAS | E20: DF | F20: 0.0102 | G20: OK | H20: 0.0102 | I20: 0.0121
C21: 5 | D21: LUCRO | E21: L | F21: 0.0664 | G21: OK | H21: 0.0664 | I21: 0.0869
C22: 6 | D22: TAXA REPRESENTATIVA DE TRIBUTOS | E22: I= PIS+CONFINS+ISS+CPRB | F22: =SUM(F23:F26) -> 0.0665 | G22: OK | H22: 0.0365 | I22: 0.0865
C23: 6.1 | D23: PIS | E23: PIS | F23: 0.0065 | G23: OK | H23: 0.0065 | I23: 0.0065
A24: Alíquota iss: | B24: Base de cálculo: | C24: 6.2 | D24: CONFINS | E24: CONFINS | F24: 0.03 | G24: OK | H24: 0.03 | I24: 0.03
C25: 6.3 | D25: CONTRIBUIÇÃO PREVIDENCIÁRIA SOBRE A RECEITA BRUTA | E25: CPRB | F25: 0 | G25: OK | H25: 0.045 | I25: 0.045
A26: 0.03 | B26: 1 | C26: 6.4 | D26: ISS | E26: ISS | F26: 0.03 | G26: OK | H26: 0.02 | I26: 0.05
E27: LIMITE CONFORME ACÓRDÃO TCU 2.622/2013 | H27: de 19,60% a 24,23%
B28: Fórmula - Acórdão TCU 2.622/2013
C30: BDI= | D30: (1+AC+S+R+G)(1+DF)(1+L) 1 | E30: BDI | F30: =TRUNC((((1+F17+F18+F19)*(1+F20)*(1+F21))/(1-F22))-1,4) -> 0.2073 | G30: OK! Percentual do BDI quando calculado sem desoneração atende ao limite estipulado pelo Acórdão TCU 2.622/2013
D31: (1-I)
B37: Percentual de BDI dentro do limite estipulado pelo Acódão TCU 2.622/2013. O cálculo dessa composição sem desoneração resulta em 20,73%
B38: Obs¹: Para pagamento de material em canteiro, quando possível nos programas do Gestor, o BDI de Materiais deve ser limitado a 12,00%
B39: Obs²: O cálculo desta composição de BDI não considera a desoneração da contribuição previdenciária, conforme Lei 13.161/2015
B40: Eu, responsável técnico pelo orçamento, declaro para os devidos fins que a opção pela desoneração sobre a folha de pagamento é mais adequada para a administração pública.
F41: Declaração do Tomador dos Recursos:
F42: Declaro, conforme legislação tributária municipal, que a alíquota do ISS é de 3% e a sua base de cálculo é de 100% sobre o valor total do orçamento.
D46: Responsável Técnico pela Composição do BDI
D47: Nome: VINICIUS LUMERTZ MENGUE | F47: Responsável indicado pelo Tomador
D48: Registro: 208723-7 | F48: Nome: HELDER FRANCISCO LOCH
F49: Cargo: CONTADOR
F50: CPF: 288.787.289-34

Sheet COMP. SINAPI
B1: COMPOSIÇÕES DE PREÇO UNITÁRIO
B2: =PAVIM.!G2 -> PREFEITURA MUNICIPAL DE MARACAJÁ | C2: =PAVIM.!H2 -> BAIRRO: ESPIGÃO GRANDE | E2: =PAVIM.!M2 -> ESTADO: SANTA CATARINA | F2: =PAVIM.!M3 -> DATA: 12/08/26
B3: =PAVIM.!G3 -> RUA PARANÁ - TRECHO 01 | C3: =PAVIM.!K2 -> MUNICIPIO: MARACAJÁ
A5: COMPOSIÇÃO 01 | B5: CONSTRUÇÃO DE BASE E SUB-BASE PARA PAVIMENTAÇÃO DE MACADAME SECO, COM ESPESSURA DE 20 CM - EXCLUSIVE CARGA E TRANSPORTE
A6: CÓDIGO | B6: INSUMO | C6: UNIDADE | D6: COEFICIENTE | E6: PREÇO UNITÁRIO | F6: CUSTO TOTAL
A7: 88316 | B7: SERVENTE COM ENCARGOS COMPLEMENTARES | C7: H | D7: 0.0710361 | E7: 26.73 | F7: =TRUNC(D7*E7,2) -> 1.89
A8: 5934 | B8: MOTONIVELADORA POTÊNCIA BÁSICA LÍQUIDA (PRIMEIRA MARCHA) 125 HP, PESO BRUTO 13032 KG, LARGURA DA LÂMINA DE 3,7 M - CHI DIURNO. AF_06/2014 | C8: CHI | D8: 0.0630051 | E8: 123.76 | F8: =TRUNC(D8*E8,2) -> 7.79
A9: 5932 | B9: MOTONIVELADORA POTÊNCIA BÁSICA LÍQUIDA (PRIMEIRA MARCHA) 125 HP, PESO BRUTO 13032 KG, LARGURA DA LÂMINA DE 3,7 M - CHP DIURNO. AF_06/2014 | C9: CHP | D9: 0.008031 | E9: 308.08 | F9: =TRUNC(D9*E9,2) -> 2.47
A10: 5685 | B10: ROLO COMPACTADOR VIBRATÓRIO DE UM CILINDRO AÇO LISO, POTÊNCIA 80 HP, PESO OPERACIONAL MÁXIMO 8,1 T, IMPACTO DINÂMICO 16,15 / 9,5 T, LARGURA DE TRABALHO 1,68 M - CHI DIURNO. AF_06/2014 | C10: CHI | D10: 0.0641648 | E10: 76.39 | F10: =TRUNC(D10*E10,2) -> 4.9
A11: 5684 | B11: ROLO COMPACTADOR VIBRATÓRIO DE UM CILINDRO AÇO LISO, POTÊNCIA 80 HP, PESO OPERACIONAL MÁXIMO 8,1 T, IMPACTO DINÂMICO 16,15 / 9,5 T, LARGURA DE TRABALHO 1,68 M - CHP DIURNO. AF_06/2014 | C11: CHP | D11: 0.0068713 | E11: 181.87 | F11: =TRUNC(D11*E11,2) -> 1.24
A12: 5632 | B12: ESCAVADEIRA HIDRÁULICA SOBRE ESTEIRAS, CAÇAMBA 0,80 M3, PESO OPERACIONAL 17 T, POTENCIA BRUTA 111 HP - CHI DIURNO. AF_06/2014 | C12: CHI | D12: 0.050262 | E12: 107.88 | F12: =TRUNC(D12*E12,2) -> 5.42
A13: 5631 | B13: ESCAVADEIRA HIDRÁULICA SOBRE ESTEIRAS, CAÇAMBA 0,80 M3, PESO OPERACIONAL 17 T, POTENCIA BRUTA 111 HP - CHP DIURNO. AF_06/2014 | C13: CHP | D13: 0.0207741 | E13: 253.32 | F13: =TRUNC(D13*E13,2) -> 5.26
A14: 4741 | B14: AQUISIÇÃO DE PÓ DE PEDRA (POSTO PEDREIRA/FORNECEDOR, SEM FRETE) | C14: M3 | D14: 0.3 | E14: =COTAÇÃO!F109 -> 86 | F14: =TRUNC(D14*E14,2) -> 25.8
A15: 4730 | B15: AQUISIÇÃO DE PEDRA DE MAO OU PEDRA RACHAO PARA ARRIMO/FUNDACAO (POSTO PEDREIRA/FORNECEDOR, SEM FRETE) | C15: M3 | D15: 1.1 | E15: =COTAÇÃO!F130 -> 57 | F15: =TRUNC(D15*E15,2) -> 62.7
F16: =SUM(F7:F15) -> 117.47
A18: COMPOSIÇÃO 02 | B18: CONSTRUÇÃO DE BASE E SUB-BASE PARA PAVIMENTAÇÃO DE BRITA GRADUADA SIMPLES, COM ESPESSURA DE 15 CM - EXCLUSIVE CARGA E TRANSPORTE
A19: CÓDIGO | B19: INSUMO | C19: UNIDADE | D19: COEFICIENTE | E19: PREÇO UNITÁRIO | F19: CUSTO TOTAL
A20: 96464 | B20: ROLO COMPACTADOR DE PNEUS, ESTÁTICO, PRESSÃO VARIÁVEL, POTÊNCIA 110 HP, PESO SEM/COM LASTRO 10,8/27 T, LARGURA DE ROLAGEM 2,30 M - CHI DIURNO. AF_06/2017 | C20: CHI | D20: 0.0273222 | E20: 100.09 | F20: =TRUNC(D20*E20,2) -> 2.73
A21: 96463 | B21: ROLO COMPACTADOR DE PNEUS, ESTÁTICO, PRESSÃO VARIÁVEL, POTÊNCIA 110 HP, PESO SEM/COM LASTRO 10,8/27 T, LARGURA DE ROLAGEM 2,30 M - CHP DIURNO. AF_06/2017 | C21: CHP | D21: 0.0040058 | E21: 237.16 | F21: =TRUNC(D21*E21,2) -> 0.95
A22: 96393 | B22: AQUISIÇÃO DE BRITA GRADUADA SIMPLES | C22: M3 | D22: 1 | E22: =COTAÇÃO!F65 -> 85 | F22: =TRUNC(D22*E22,2) -> 85
A23: 88316 | B23: SERVENTE COM ENCARGOS COMPLEMENTARES | C23: H | D23: 0.031328 | E23: 26.73 | F23: =TRUNC(D23*E23,2) -> 0.83
A24: 5934 | B24: MOTONIVELADORA POTÊNCIA BÁSICA LÍQUIDA (PRIMEIRA MARCHA) 125 HP, PESO BRUTO 13032 KG, LARGURA DA LÂMINA DE 3,7 M - CHI DIURNO. AF_06/2014 | C24: CHI | D24: 0.026167 | E24: 123.76 | F24: =TRUNC(D24*E24,2) -> 3.23
A25: 5932 | B25: MOTONIVELADORA POTÊNCIA BÁSICA LÍQUIDA (PRIMEIRA MARCHA) 125 HP, PESO BRUTO 13032 KG, LARGURA DA LÂMINA DE 3,7 M - CHP DIURNO. AF_06/2014 | C25: CHP | D25: 0.005161 | E25: 308.08 | F25: =TRUNC(D25*E25,2) -> 1.59
A26: 5903 | B26: CAMINHÃO PIPA 10.000 L TRUCADO, PESO BRUTO TOTAL 23.000 KG, CARGA ÚTIL MÁXIMA 15.935 KG, DISTÂNCIA ENTRE EIXOS 4,8 M, POTÊNCIA 230 CV, INCLUSIVE TANQUE DE AÇO PARA TRANSPORTE DE ÁGUA - CHI DIURNO. AF_06/2014 | C26: CHI | D26: 0.0290389 | E26: 81.87 | F26: =TRUNC(D26*E26,2) -> 2.37
A27: 5901 | B27: CAMINHÃO PIPA 10.000 L TRUCADO, PESO BRUTO TOTAL 23.000 KG, CARGA ÚTIL MÁXIMA 15.935 KG, DISTÂNCIA ENTRE EIXOS 4,8 M, POTÊNCIA 230 CV, INCLUSIVE TANQUE DE AÇO PARA TRANSPORTE DE ÁGUA - CHP DIURNO. AF_06/2014 | C27: CHP | D27: 0.0022892 | E27: 365.13 | F27: =TRUNC(D27*E27,2) -> 0.83
A28: 5685 | B28: ROLO COMPACTADOR VIBRATÓRIO DE UM CILINDRO AÇO LISO, POTÊNCIA 80 HP, PESO OPERACIONAL MÁXIMO 8,1 T, IMPACTO DINÂMICO 16,15 / 9,5 T, LARGURA DE TRABALHO 1,68 M - CHI DIURNO. AF_06/2014 | C28: CHI | D28: 0.0221663 | E28: 76.39 | F28: =TRUNC(D28*E28,2) -> 1.69
A29: 5684 | B29: ROLO COMPACTADOR VIBRATÓRIO DE UM CILINDRO AÇO LISO, POTÊNCIA 80 HP, PESO OPERACIONAL MÁXIMO 8,1 T, IMPACTO DINÂMICO 16,15 / 9,5 T, LARGURA DE TRABALHO 1,68 M - CHP DIURNO. AF_06/2014 | C29: CHP | D29: 0.0091617 | E29: 181.87 | F29: =TRUNC(D29*E29,2) -> 1.66
F30: =SUM(F20:F29) -> 100.88

Sheet COTAÇÃO
B1: ORÇAMENTO E QUADRO DE CONSULTA DE PREÇOS DE MERCADO
B2: =PAVIM.!$G$2 -> PREFEITURA MUNICIPAL DE MARACAJÁ | D2: =PAVIM.!$H$2 -> BAIRRO: ESPIGÃO GRANDE | F2: =PAVIM.!M2 -> ESTADO: SANTA CATARINA
B3: =PAVIM.!$G$3 -> RUA PARANÁ - TRECHO 01 | D3: =PAVIM.!$K$2 -> MUNICIPIO: MARACAJÁ | F3: =PAVIM.!M3 -> DATA: 12/08/26
A5: Equipamento/Material: | B5: Tubo de Concreto simples 0,40m | F5: Unidade: m
A6: Fornecedor Consultado | B6: CNPJ | C6: Data da coleta da Informação | D6: Contato | E6: Telefone | F6: Custo R$
A7: Pré moldados Pagani | B7: 08.372.222/0001-47 | C7: 45149 | D7: Ademir | E7: 3524-1044
A8: Concretubos | B8: 08.982.272/0001-46 | C8: 45149 | D8: Ritieli | E8: 3524-0999 | F8: 49.22
A9: Artevila Ind. e Com. Ltda | B9: 79.937.199/0001-39 | C9: 45149 | D9: Udson | E9: 3432-0272 | F9: 40
A10: KF Artfatos de Cimento | B10: 78.885.548/0001-53 | C10: 45149 | D10: Mª Eduarda | E10: 3463-1138 | F10: 56
A11: Concretos Comelli Ltda | B11: 76.870.914/0001-75 | C11: 45149 | D11: Renan | E11: 3466-1664 | F11: 62
A12: Data-base do Orçamento: | B12: 45149 | D12: Valor adotado (mediana): | F12: =TRUNC(MEDIAN(F7:F11),2) -> 52.61
A14: Equipamento/Material: | B14: Tubo de Concreto simples 0,50m | F14: Unidade: m
A15: Fornecedor Consultado | B15: CNPJ | C15: Data da coleta da Informação | D15: Contato | E15: Telefone | F15: Custo R$
A16: Pré moldados Pagani | B16: 08.372.222/0001-47 | C16: 45149 | D16: Ademir | E16: 3524-1044
A17: Concretubos | B17: 08.982.272/0001-46 | C17: 45149 | D17: Ritieli | E17: 3524-0999 | F17: 71.83
A18: Artevila Ind. e Com. Ltda | B18: 79.937.199/0001-39 | C18: 45149 | D18: Udson | E18: 3432-0272 | F18: 55
A19: KF Artfatos de Cimento | B19: 78.885.548/0001-53 | C19: 45149 | D19: Mª Eduarda | E19: 3463-1138 | F19: 86
A20: Concretos Comelli | B20: 76.870.914/0001-75 | C20: 45149 | D20: Renan | E20: 3466-1664 | F20: 90
A21: Data-base do Orçamento: | B21: 45149 | D21: Valor adotado (mediana): | F21: =TRUNC(MEDIAN(F16:F20),2) -> 78.91
A23: Equipamento/Material: | B23: Tubo de Concreto armado 0,60m | F23: Unidade: m
A24: Fornecedor Consultado | B24: CNPJ | C24: Data da coleta da Informação | D24: Contato | E24: Telefone | F24: Custo R$
A25: Pré moldados Pagani | B25: 08.372.222/0001-47 | C25: 45149 | D25: Ademir | E25: 3524-1044
A26: Concretubos | B26: 08.982.272/0001-46 | C26: 45149 | D26: Ritieli | E26: 3524-0999
A27: Artevila Ind. e Com. Ltda | B27: 79.937.199/0001-39 | C27: 45366 | D27: Udson | E27: 3432-0272 | F27: 150
A28: KF Artfatos de Cimento | B28: 78.885.548/0001-53 | C28: 45366 | D28: Mª Eduarda | E28: 3463-1138 | F28: 213
A29: Concretos Comelli | B29: 76.870.914/0001-75 | C29: 45366 | D29: Renan | E29: 3466-1664 | F29: 180
A30: Data-base do Orçamento: | B30: 45366 | D30: Valor adotado (mediana): | F30: =TRUNC(MEDIAN(F25:F29),2) -> 180
A32: Equipamento/Material: | B32: Tubo de Concreto armado 0,80m | F32: Unidade: m
A33: Fornecedor Consultado | B33: CNPJ | C33: Data da coleta da Informação | D33: Contato | E33: Telefone | F33: Custo R$
A34: Pré moldados Pagani | B34: 08.372.222/0001-47 | C34: 45149 | D34: Ademir | E34: 3524-1044
A35: Concretubos | B35: 08.982.272/0001-46 | C35: 45149 | D35: Ritieli | E35: 3524-0999 | F35: 267.27
A36: Artevila Ind. e Com. Ltda | B36: 79.937.199/0001-39 | C36: 45149 | D36: Udson | E36: 3432-0272 | F36: 225
A37: KF Artfatos de Cimento | B37: 78.885.548/0001-53 | C37: 45149 | D37: Mª Eduarda | E37: 3463-1138 | F37: 265
A38: Concretos Comelli | B38: 76.870.914/0001-75 | C38: 45149 | D38: Renan | E38: 3466-1664 | F38: 280
A39: Data-base do Orçamento: | B39: 45149 | D39: Valor adotado (mediana): | F39: =TRUNC(MEDIAN(F34:F38),2) -> 266.13
A41: Equipamento/Material: | B41: Meio fio - 15cm de largura | F41: Unidade: m
A42: Fornecedor Consultado | B42: CNPJ | C42: Data da coleta da Informação | D42: Contato | E42: Telefone | F42: Custo R$
A43: Pré moldados Pagani | B43: 08.372.222/0001-47 | C43: 44503 | D43: Ademir | E43: 3524-1044 | F43: 22.5
A44: Concretubos | B44: 08.982.272/0001-46 | C44: 44503 | D44: Ritieli | E44: 3524-0999 | F44: 27.84
A45: Artevila Ind. e Com. Ltda | B45: 79.937.199/0001-39 | C45: 44503 | D45: Udson | E45: 3432-0272 | F45: 23
...

Sheet REAJUSTE
B1: ÍNDICES DE REAJUSTAMENTO DE OBRAS RODOVIÁRIAS
B2: =PAVIM.!$G$2 -> PREFEITURA MUNICIPAL DE MARACAJÁ | C2: =PAVIM.!$H$2 -> BAIRRO: ESPIGÃO GRANDE | E2: =PAVIM.!$K$2 -> MUNICIPIO: MARACAJÁ
B3: =PAVIM.!G3 -> RUA PARANÁ - TRECHO 01 | C3: =PAVIM.!$M$2 -> ESTADO: SANTA CATARINA | E3: =PAVIM.!$M$3 -> DATA: 12/08/26
A5: CÓDIGO | B5: DESCRIÇÃO DOS ÍNDICES | C5: 45839 | D5: 46054 | E5: REAJUSTE
A6: PAV | B6: PAVIMENTAÇÃO | C6: 590.239 | D6: 593.03 | E6: =D6/C6 -> 1.0047286
A7: DRE | B7: DRENAGEM | C7: 491.278 | D7: 496.457 | E7: =D7/C7 -> 1.0105419
A8: SV | B8: SINALIZAÇÃO VERTICAL | C8: 272.13 | D8: 275.68 | E8: =D8/C8 -> 1.0130452

Sheet MAT. BET.
B1: PREÇO MÉDIO MENSAL PONDERADO PRATICADO PELOS DISTRIBUIDORES DE PRODUTOS ASFÁLTICOS (R$/KG)
B2: PREFEITURA MUNICIPAL DE MARACAJÁ | C2: =PAVIM.!H2 -> BAIRRO: ESPIGÃO GRANDE | D2: ESTADO: SANTA CATARINA
B3: =PAVIM.!G3 -> RUA PARANÁ - TRECHO 01 | C3: MUNICIPIO: MARACAJÁ | D3: =PAVIM.!M3 -> DATA: 12/08/26
A5: Importante: | B5: Quando não houver declaração de venda do produto selecionado, ou quando a declaração de venda do produto ocorrer por menos de 03 (três) distribuidoras, a tabela indicará campo vazio.
A6: Mês | B6: Produto | D6: Estado | E6: Preço
A7: 46054 | B7: EMULSÃO ASFÁLTICA PARA SERVIÇO DE IMPRIMAÇÃO | D7: PR | E7: 2.3131456
A8: 46054 | B8: EMULSÕES ASFÁLTICAS RR-1C | D8: PR | E8: 2.3253469
A9: 46054 | B9: CIMENTOS ASFÁLTICOS CAP-50-70 | D9: PR | E9: 3.1767927
A10: Obs: Deverá ser acrescido o ICMS de 17% e BDI Diferenciado de 15% em relação ao valor do material
A11: Fonte: https://www.gov.br/anp/pt-br/assuntos/precos-e-defesa-da-concorrencia/precos/precos-de-distribuicao-de-produtos-asfalticos
